BEGIN:VCALENDAR
VERSION:2.0
PRODID:-//DISPLAY Magazin - ECPv6.15.20//NONSGML v1.0//EN
CALSCALE:GREGORIAN
METHOD:PUBLISH
X-WR-CALNAME:DISPLAY Magazin
X-ORIGINAL-URL:https://www.display-magazin.ch
X-WR-CALDESC:Veranstaltungen im DISPLAY Magazin
REFRESH-INTERVAL;VALUE=DURATION:PT1H
X-Robots-Tag:noindex
X-PUBLISHED-TTL:PT1H
BEGIN:VTIMEZONE
TZID:Europe/Zurich
BEGIN:DAYLIGHT
TZOFFSETFROM:+0100
TZOFFSETTO:+0200
TZNAME:CEST
DTSTART:20240331T010000
END:DAYLIGHT
BEGIN:STANDARD
TZOFFSETFROM:+0200
TZOFFSETTO:+0100
TZNAME:CET
DTSTART:20241027T010000
END:STANDARD
BEGIN:DAYLIGHT
TZOFFSETFROM:+0100
TZOFFSETTO:+0200
TZNAME:CEST
DTSTART:20250330T010000
END:DAYLIGHT
BEGIN:STANDARD
TZOFFSETFROM:+0200
TZOFFSETTO:+0100
TZNAME:CET
DTSTART:20251026T010000
END:STANDARD
BEGIN:DAYLIGHT
TZOFFSETFROM:+0100
TZOFFSETTO:+0200
TZNAME:CEST
DTSTART:20260329T010000
END:DAYLIGHT
BEGIN:STANDARD
TZOFFSETFROM:+0200
TZOFFSETTO:+0100
TZNAME:CET
DTSTART:20261025T010000
END:STANDARD
BEGIN:DAYLIGHT
TZOFFSETFROM:+0100
TZOFFSETTO:+0200
TZNAME:CEST
DTSTART:20270328T010000
END:DAYLIGHT
BEGIN:STANDARD
TZOFFSETFROM:+0200
TZOFFSETTO:+0100
TZNAME:CET
DTSTART:20271031T010000
END:STANDARD
END:VTIMEZONE
BEGIN:VEVENT
DTSTART;TZID=Europe/Zurich:20260213T230000
DTEND;TZID=Europe/Zurich:20260214T050000
DTSTAMP:20260420T135804
CREATED:20260130T070751Z
LAST-MODIFIED:20260130T070751Z
UID:12201-1771023600-1771045200@www.display-magazin.ch
SUMMARY:Kiki im Frost
DESCRIPTION:Väterchen Frost trägt warme Erinnerungen an seine letzte Kiki. Hier nannten ihn alle Daddy. Nun kehrt er zurück\, in die Arme seiner Lovers\, in jenen geschützten Salon\, der keine Zurückhaltung kennt. \nMit Bari_O\, Contenance\, Dani Dorá\, Michelle Vanja\, Mymocea & S.High-Ends sowie Kiki‘s Amusement Squad. \n13.2.2025\, 23 Uhr \nFrieda‘s Büxe \nkiki.events
URL:https://www.display-magazin.ch/event/kiki-im-frost/
LOCATION:Frieda’s Büxe\, Friedaustrasse 23\, Zürich\, 8003\, Schweiz
CATEGORIES:Zürich
ATTACH;FMTTYPE=image/jpeg:https://www.display-magazin.ch/wp-content/uploads/2026/03/image0-1-3.jpeg
END:VEVENT
BEGIN:VEVENT
DTSTART;TZID=Europe/Zurich:20260121T193000
DTEND;TZID=Europe/Zurich:20260121T223000
DTSTAMP:20260420T135804
CREATED:20260107T133040Z
LAST-MODIFIED:20260107T133040Z
UID:12105-1769023800-1769034600@www.display-magazin.ch
SUMMARY:Moulin Rouge! The Musical
DESCRIPTION:Das preisgekrönte Broadway-Spektakel «Moulin Rouge! The Musical“ kommt erstmals in die Schweiz und verwandelt das Theater 11 in Zürich vom 21. Januar bis 1. März 2026 in den legendären Pariser Nachtclub. Basierend auf Baz Luhrmanns oscarprämiertem Film und ausgezeichnet mit zehn Tony Awards\, darunter «Best Musical»\, besticht das Musical durch seine visuelle Opulenz und riesigen Dekorationen wie dem ikonischen roten Mühlenrad. \n  \nVorstellungen\nTheater 11 Zürich\, Thurgauerstrasse 7\, 8050 Zürich\, Schweiz \n21. Januar bis 1. März 2026 \nDienstag\, Donnerstag und Freitag um 19.30 Uhr \nMittwoch um 18.30 Uhr (Ausnahme 21.1.26\, 19.30 Uhr) \nSamstag um 14.30 Uhr und 19.30 Uhr \nSonntag um 13.30 Uhr und 18.30 Uhr \nTicketpreise\nzwischen CHF 57 und CHF 177 \nDauer\nca. 2 Stunden 40 Minuten inkl. Pause \nSprache\nOriginalversion in Englisch \nHier geht’s zum Ticketcorner
URL:https://www.display-magazin.ch/event/moulin-rouge-the-musical/
LOCATION:Theater 11\, Thurgauerstrasse 7\, Zürich\, 8050\, Schweiz
CATEGORIES:Zürich
ATTACH;FMTTYPE=image/jpeg:https://www.display-magazin.ch/wp-content/uploads/2026/03/MR_W3_KV-LadyMs_quadrat_RGB_72dpi.jpg
END:VEVENT
BEGIN:VEVENT
DTSTART;TZID=Europe/Zurich:20260116T230000
DTEND;TZID=Europe/Zurich:20260117T050000
DTSTAMP:20260420T135804
CREATED:20251219T075612Z
LAST-MODIFIED:20251219T075612Z
UID:12048-1768604400-1768626000@www.display-magazin.ch
SUMMARY:DEAD DANCE
DESCRIPTION:Das Wochenende steht an – und das Heaven macht die Nacht zum Tag! Keine Gaga-Party\, sondern ein queeres Freitags-Highlight mit dem feinsten PopHouse von DJ NOX. Tanzt euch den Wochenstress von der Seele und startet ins Wochenende.
URL:https://www.display-magazin.ch/event/dead-dance/
LOCATION:Heaven Club\, Spitalgasse 5\, Zürich\, 8001
CATEGORIES:Zürich
ATTACH;FMTTYPE=image/png:https://www.display-magazin.ch/wp-content/uploads/2026/03/260116_Dead-Dance_INSTA.png
END:VEVENT
BEGIN:VEVENT
DTSTART;TZID=Europe/Zurich:20260110T230000
DTEND;TZID=Europe/Zurich:20260111T050000
DTSTAMP:20260420T135804
CREATED:20251218T153854Z
LAST-MODIFIED:20251218T153854Z
UID:12045-1768086000-1768107600@www.display-magazin.ch
SUMMARY:AVALON
DESCRIPTION:Mit dem House-Sound von Angel O ist die Avalon ein Freudenfest für Fans guter Tanzmusik!
URL:https://www.display-magazin.ch/event/avalon-22/
LOCATION:Heaven Club\, Spitalgasse 5\, Zürich\, 8001
CATEGORIES:Zürich
ATTACH;FMTTYPE=image/png:https://www.display-magazin.ch/wp-content/uploads/2026/03/Bildschirmfoto-2025-12-18-um-17.38.18-scaled-1.png
END:VEVENT
BEGIN:VEVENT
DTSTART;TZID=Europe/Zurich:20260109T230000
DTEND;TZID=Europe/Zurich:20260110T050000
DTSTAMP:20260420T135804
CREATED:20251218T153654Z
LAST-MODIFIED:20251218T153654Z
UID:12043-1767999600-1768021200@www.display-magazin.ch
SUMMARY:XOXO 2020
DESCRIPTION:XOXO 2020 bietet den ultimativen Soundtrack für eine durchtanzte Nacht – mit den heissesten Tracks ab dem Jahr 2020. Statt Retro-Feeling erwartet die Gäste das Beste aus der aktuellen Musikszene: Pop\, trendige Pop-Remixes\, Afrobeats und angesagte Latin Grooves.
URL:https://www.display-magazin.ch/event/xoxo-2020-5/
LOCATION:Heaven Club\, Spitalgasse 5\, Zürich\, 8001
CATEGORIES:Zürich
ATTACH;FMTTYPE=image/png:https://www.display-magazin.ch/wp-content/uploads/2026/03/260109_XOXO-2020_homepage.png
END:VEVENT
BEGIN:VEVENT
DTSTART;TZID=Europe/Zurich:20260108T190000
DTEND;TZID=Europe/Zurich:20260108T230000
DTSTAMP:20260420T135804
CREATED:20251218T110758Z
LAST-MODIFIED:20251218T110758Z
UID:12033-1767898800-1767913200@www.display-magazin.ch
SUMMARY:KARAOKE mit Kosta
DESCRIPTION:Bis um 23 Uhr kannst du dich im \nKweer heiser krächzen. \n→ Kweer | Spitalgasse 14
URL:https://www.display-magazin.ch/event/karaoke-mit-kosta-2/
LOCATION:kweer\, Spitalgasse 14\, zürich\, zürich
CATEGORIES:Zürich
ATTACH;FMTTYPE=image/jpeg:https://www.display-magazin.ch/wp-content/uploads/2026/03/images.jpeg
END:VEVENT
BEGIN:VEVENT
DTSTART;TZID=Europe/Zurich:20260103T230000
DTEND;TZID=Europe/Zurich:20260104T050000
DTSTAMP:20260420T135804
CREATED:20251218T153129Z
LAST-MODIFIED:20251218T153129Z
UID:12041-1767481200-1767502800@www.display-magazin.ch
SUMMARY:NIGHT PRIDE
DESCRIPTION:03. Januar 2026\, 22:45 Uhr  \nHeaven\, Spitalgasse 5\, 8001 Zürich \nParty with Pride at night! Mit DJCK aus Köln.
URL:https://www.display-magazin.ch/event/night-pride-40/
LOCATION:Heaven Club\, Spitalgasse 5\, Zürich\, 8001
CATEGORIES:Zürich
ATTACH;FMTTYPE=image/png:https://www.display-magazin.ch/wp-content/uploads/2026/03/260103_Night-Pride_homepage.png
END:VEVENT
BEGIN:VEVENT
DTSTART;TZID=Europe/Zurich:20251231T220000
DTEND;TZID=Europe/Zurich:20260101T050000
DTSTAMP:20260420T135804
CREATED:20251218T110406Z
LAST-MODIFIED:20251218T110406Z
UID:12031-1767218400-1767243600@www.display-magazin.ch
SUMMARY:SECRET GARDEN NYE
DESCRIPTION:Das Label Secret Garden lädt zum Jahreswechsel zu einer New Years Eve Edition ein.\nMotto: Al in Wonderland\, Alice is welcome\, too. \nDJs\n– Terra (Alteza Records)\n– Human Element (Iboga Records) \n– Alison (Razz Fazz)\n– Ambient Pino (Pino Music)\n\nEINTRITT\n– Ab 21 Jahren\n– Bis 00:00 CHF 20.-\n– Von 00:00 bis 01:00 CHF 30.-\n– Ab 01:00 CHF 35.-\n– VVK nur CHF 25.-\n\nINFORMATIONEN\n– Grosses Outdoor-Fumoir\n– Massive Soundsystem\n– Light & Laser-Show \n– Visuals & Decoration
URL:https://www.display-magazin.ch/event/secret-garden-nye/
LOCATION:Alte Kaserne\, Kanonengasse 16\, Zürich\, 8004\, Schweiz
CATEGORIES:Zürich
ATTACH;FMTTYPE=image/jpeg:https://www.display-magazin.ch/wp-content/uploads/2026/03/Secret-Garden-NYE-2025.jpg
END:VEVENT
BEGIN:VEVENT
DTSTART;TZID=Europe/Zurich:20251231T200000
DTEND;TZID=Europe/Zurich:20260101T050000
DTSTAMP:20260420T135804
CREATED:20251218T104854Z
LAST-MODIFIED:20251218T104854Z
UID:12029-1767211200-1767243600@www.display-magazin.ch
SUMMARY:SILVESTERPARTY IN DER HELDEN
DESCRIPTION:willkommen zur grossen helden silvesterparty! \neintritt CHF 20 inklusive champagner oder getränk nach wahl \nmusik: juli lee\, ben benovi \nshow and hosting: fiorella lores \ntarot readings by madame selma zinngiessen und tombola!
URL:https://www.display-magazin.ch/event/silvesterparty-in-der-helden/
LOCATION:Provitreff\, Sihlquai 240\, Zürich\, 8005\, Schweiz
CATEGORIES:Zürich
ATTACH;FMTTYPE=image/webp:https://www.display-magazin.ch/wp-content/uploads/2026/03/silvesterparty-helden-flyer-web-2025-2026.webp
END:VEVENT
END:VCALENDAR