BEGIN:VCALENDAR
VERSION:2.0
PRODID:-//DISPLAY Magazin - ECPv6.15.20//NONSGML v1.0//EN
CALSCALE:GREGORIAN
METHOD:PUBLISH
X-ORIGINAL-URL:https://www.display-magazin.ch
X-WR-CALDESC:Veranstaltungen im DISPLAY Magazin
REFRESH-INTERVAL;VALUE=DURATION:PT1H
X-Robots-Tag:noindex
X-PUBLISHED-TTL:PT1H
BEGIN:VTIMEZONE
TZID:Europe/Zurich
BEGIN:DAYLIGHT
TZOFFSETFROM:+0100
TZOFFSETTO:+0200
TZNAME:CEST
DTSTART:20250330T010000
END:DAYLIGHT
BEGIN:STANDARD
TZOFFSETFROM:+0200
TZOFFSETTO:+0100
TZNAME:CET
DTSTART:20251026T010000
END:STANDARD
BEGIN:DAYLIGHT
TZOFFSETFROM:+0100
TZOFFSETTO:+0200
TZNAME:CEST
DTSTART:20260329T010000
END:DAYLIGHT
BEGIN:STANDARD
TZOFFSETFROM:+0200
TZOFFSETTO:+0100
TZNAME:CET
DTSTART:20261025T010000
END:STANDARD
BEGIN:DAYLIGHT
TZOFFSETFROM:+0100
TZOFFSETTO:+0200
TZNAME:CEST
DTSTART:20270328T010000
END:DAYLIGHT
BEGIN:STANDARD
TZOFFSETFROM:+0200
TZOFFSETTO:+0100
TZNAME:CET
DTSTART:20271031T010000
END:STANDARD
END:VTIMEZONE
BEGIN:VEVENT
DTSTART;TZID=Europe/Zurich:20260220T230000
DTEND;TZID=Europe/Zurich:20260221T050000
DTSTAMP:20260420T132914
CREATED:20251219T100743Z
LAST-MODIFIED:20251219T100743Z
UID:12075-1771628400-1771650000@www.display-magazin.ch
SUMMARY:THE BIRDCAGE
DESCRIPTION:Ab 23 Uhr ist der Einlass wieder für alle möglich – Für Gäste ohne Fetisch Outfit gilt Dresscode: all black.
URL:https://www.display-magazin.ch/event/the-birdcage-8/
CATEGORIES:Zürich
ATTACH;FMTTYPE=image/png:https://www.display-magazin.ch/wp-content/uploads/2026/03/260220_birdcage_homepage.png
END:VEVENT
BEGIN:VEVENT
DTSTART;TZID=Europe/Zurich:20260221T200000
DTEND;TZID=Europe/Zurich:20260221T220000
DTSTAMP:20260420T132914
CREATED:20260119T155308Z
LAST-MODIFIED:20260119T155308Z
UID:12149-1771704000-1771711200@www.display-magazin.ch
SUMMARY:HYSTERIKON
DESCRIPTION:Unser Leben als Supermarkt. Joghurt für 70 Rappen\, Fair Trade Seifen und ein Herz aus Stein. Die Suche nach einem anderen Leben mit zehn Prozent mehr Inhalt. Kaufen und gekauft werden. Verkaufen und verkauft werden. So ist das\, und das ist nichts Neues. Zahlungsmittel: Geld\, Karte\, Seele. \nIndische Räucherstäbchen? Gleich nach den Menopausen. In den unteren Regalen die sogenannte Bückware. Je tiefer\, desto billiger. Das hält das Rückgrat biegsam. Wieviel haben Sie noch auf dem Konto? Reicht‘s noch für die große Liebe\, oder besser doch nur das blonde Sonderangebot? Wie läuft Ihre Beziehung? Mehr auf Ihre Kosten\, mehr auf seine? Wer zahlt drauf? Der Kassierer zuckt mit den Achseln und kassiert. Greifen Sie zu! Denn für jede verpasste Gelegenheit gibt‘s eine Abbuchung von der LifeCard. Eine absurde Revue aus der Welt der verlorenen Seelen von heute.
URL:https://www.display-magazin.ch/event/hysterikon-7/
LOCATION:Aula Oberstufenzentrum\, Rain 3\, Ittigen\, 3063
CATEGORIES:Bern
ATTACH;FMTTYPE=image/png:https://www.display-magazin.ch/wp-content/uploads/2026/03/Bildschirmfoto-2026-01-19-um-17.47.04.png
END:VEVENT
BEGIN:VEVENT
DTSTART;TZID=Europe/Zurich:20260221T220000
DTEND;TZID=Europe/Zurich:20260222T080000
DTSTAMP:20260420T132914
CREATED:20260123T120205Z
LAST-MODIFIED:20260123T120205Z
UID:12191-1771711200-1771747200@www.display-magazin.ch
SUMMARY:Frühstück am Abend
DESCRIPTION:Die Zürcher Party\, die die Nacht neu definiert \nWenn Zürichs Nachtleben eine neue Form bekommt\, dann geschieht das mit einer Attitüde\, die schräg\, unkonventionell und bewusst entspannt ist. «Frühstück am Abend» hebt das Club-Format auf ein neues Level und zeigt: Für wahre Party-Momente braucht es weder einen späten Start noch steife Konventionen\, sondern eine gute Idee\, offene Menschen und Lust am Feiern. \nWas um 22 Uhr beginnt und erst um 8 Uhr morgens endet\, ist weit mehr als ein Event. Es ist ein niederschwelliger Begegnungsort\, an dem Musik\, Gemeinschaft und pure Vibes im Mittelpunkt stehen. House und Tech-House sind hier mehr als Genres – sie sind der Herzschlag einer besonderen Nacht. \nSchon nach wenigen Ausgaben hat sich «Frühstück am Abend» zu einem Magneten für Party-Liebhaber:innen entwickelt – nicht nur aus Zürich\, sondern aus Luzern\, Lugano\, Lausanne\, Genf\, Solothurn\, Biel und weiteren Schweizer Städten. Gleichzeitig zieht der Vibe auch Menschen aus dem Ausland an: Holland\, Deutschland\, Schweden\, dem UK\, Spanien und darüber hinaus. Was alle verbindet\, ist die gleiche Haltung: kommen\, wie man ist\, tanzen\, wie man will – und die Energie einer Szene\, die zeigt\, welches kreative Potenzial Zürichs Nachtleben hat. \nWas dieses Konzept so besonders macht? Eine Community\, die nicht elitär sein will\, sondern neugierig\, offen und überraschend herzlich. Hier trifft Zürcher Nachtkultur auf Entdecker:innen ohne Berührungsängste\, Fremde werden zu Freund:innen – und jede Ausgabe schreibt ihre eigene\, leicht schräge Geschichte im Club-Kosmos der Stadt. \n«Frühstück am Abend» steht für Offenheit\, Humor und die pure Freude am Tanzen – und beweist\, dass es am Ende nicht darauf ankommt\, wie spät es ist\, sondern wie frei und frisch sich der Moment anfühlt.
URL:https://www.display-magazin.ch/event/fruehstueck-am-abend-3/
LOCATION:Kraftwerk\, Selnaustrasse 25
CATEGORIES:Zürich
ATTACH;FMTTYPE=image/webp:https://www.display-magazin.ch/wp-content/uploads/2026/03/untitled-4-4-page-1-1QPUNX85.webp
END:VEVENT
BEGIN:VEVENT
DTSTART;TZID=Europe/Zurich:20260221T230000
DTEND;TZID=Europe/Zurich:20260222T050000
DTSTAMP:20260420T132914
CREATED:20251219T101049Z
LAST-MODIFIED:20251219T101049Z
UID:12077-1771714800-1771736400@www.display-magazin.ch
SUMMARY:BOOM BOOM 90S
DESCRIPTION:Sie waren bunt\, laut\, schrill: die 90er Jahre! Die Party feiert die Sounds aus dieser schrillen Epoche.
URL:https://www.display-magazin.ch/event/boom-boom-90s-17/
LOCATION:Heaven Club\, Spitalgasse 5\, Zürich\, 8001
CATEGORIES:Zürich
ATTACH;FMTTYPE=image/png:https://www.display-magazin.ch/wp-content/uploads/2026/03/260221_boom-boom-90s.png
END:VEVENT
END:VCALENDAR