BEGIN:VCALENDAR
VERSION:2.0
PRODID:-//DISPLAY Magazin - ECPv6.15.20//NONSGML v1.0//EN
CALSCALE:GREGORIAN
METHOD:PUBLISH
X-WR-CALNAME:DISPLAY Magazin
X-ORIGINAL-URL:https://www.display-magazin.ch
X-WR-CALDESC:Veranstaltungen im DISPLAY Magazin
REFRESH-INTERVAL;VALUE=DURATION:PT1H
X-Robots-Tag:noindex
X-PUBLISHED-TTL:PT1H
BEGIN:VTIMEZONE
TZID:Europe/Zurich
BEGIN:DAYLIGHT
TZOFFSETFROM:+0100
TZOFFSETTO:+0200
TZNAME:CEST
DTSTART:20250330T010000
END:DAYLIGHT
BEGIN:STANDARD
TZOFFSETFROM:+0200
TZOFFSETTO:+0100
TZNAME:CET
DTSTART:20251026T010000
END:STANDARD
BEGIN:DAYLIGHT
TZOFFSETFROM:+0100
TZOFFSETTO:+0200
TZNAME:CEST
DTSTART:20260329T010000
END:DAYLIGHT
BEGIN:STANDARD
TZOFFSETFROM:+0200
TZOFFSETTO:+0100
TZNAME:CET
DTSTART:20261025T010000
END:STANDARD
BEGIN:DAYLIGHT
TZOFFSETFROM:+0100
TZOFFSETTO:+0200
TZNAME:CEST
DTSTART:20270328T010000
END:DAYLIGHT
BEGIN:STANDARD
TZOFFSETFROM:+0200
TZOFFSETTO:+0100
TZNAME:CET
DTSTART:20271031T010000
END:STANDARD
END:VTIMEZONE
BEGIN:VEVENT
DTSTART;TZID=Europe/Zurich:20260217T140000
DTEND;TZID=Europe/Zurich:20260217T160000
DTSTAMP:20260420T102358
CREATED:20260120T093118Z
LAST-MODIFIED:20260120T093118Z
UID:12165-1771336800-1771344000@www.display-magazin.ch
SUMMARY:THE CHILDREN’S HOUR (INFAM)
DESCRIPTION:USA 1961\, 108’\, digital HD\, E/d  \nRegie: William Wyler \nDrehbuch: John Michael Hayes \nNach dem Bühnenstück von Lillian Hellman \nMit: Audrey Hepburn\, Shirley MacLaine\, James Garner\, Miriam Hopkins\, Fay Bainter \n  \nEin zehnjähriges Mädchen beschuldigt in einer Mischung aus Naivität und Bösartigkeit seine beiden College-Lehrerinnen der lesbischen Liebe. Die Lüge führt nicht nur zum Ruin der Privatschule\, sondern zerstört auch das Leben der Lehrerinnen. Nach «These Three» (1936) die zweite Adaption desselben Bühnenstücks durch William Wyler. Zwar erreicht Wyler nicht die kritische Schärfe und formale Brillanz seiner Vorkriegsfilme\, aber dennoch ist der Film mehr als eine bloße psychologische Studie. Im Gegensatz zur ersten Verfilmung wird das Thema direkter und konkreter angegangen\, wobei Wyler aufzeigt\, wie das Zusammenwirken von individuellen Konflikten mit gesellschaftlichen Vorurteilen eine verheerende Auswirkung haben kann.  727x. (Filmdienst.de)  \n«In der subtilen Regie der Blicke steckt die wahre Emotion des Films. Von Anfang an sind es mehr die Augen Shirley MacLaines als ihre Worte\, die ihre Gefühle offenbaren\, darin liegt die Kraft ihres Spiels in diesem Film. Martha ist die stärkste Figur\, als einzig wahre Liebende ist sie Verliererin und Gewinnerin zugleich.»
URL:https://www.display-magazin.ch/event/the-childrens-hour-infam-2/
LOCATION:Kino Rex\, Schwanengasse 9\, Bern\, Bern
ATTACH;FMTTYPE=image/jpeg:https://www.display-magazin.ch/wp-content/uploads/2026/03/The-Childrens-1-.jpeg
END:VEVENT
END:VCALENDAR