BEGIN:VCALENDAR
VERSION:2.0
PRODID:-//DISPLAY Magazin - ECPv6.15.20//NONSGML v1.0//EN
CALSCALE:GREGORIAN
METHOD:PUBLISH
X-WR-CALNAME:DISPLAY Magazin
X-ORIGINAL-URL:https://www.display-magazin.ch
X-WR-CALDESC:Veranstaltungen im DISPLAY Magazin
REFRESH-INTERVAL;VALUE=DURATION:PT1H
X-Robots-Tag:noindex
X-PUBLISHED-TTL:PT1H
BEGIN:VTIMEZONE
TZID:Europe/Zurich
BEGIN:DAYLIGHT
TZOFFSETFROM:+0100
TZOFFSETTO:+0200
TZNAME:CEST
DTSTART:20250330T010000
END:DAYLIGHT
BEGIN:STANDARD
TZOFFSETFROM:+0200
TZOFFSETTO:+0100
TZNAME:CET
DTSTART:20251026T010000
END:STANDARD
BEGIN:DAYLIGHT
TZOFFSETFROM:+0100
TZOFFSETTO:+0200
TZNAME:CEST
DTSTART:20260329T010000
END:DAYLIGHT
BEGIN:STANDARD
TZOFFSETFROM:+0200
TZOFFSETTO:+0100
TZNAME:CET
DTSTART:20261025T010000
END:STANDARD
BEGIN:DAYLIGHT
TZOFFSETFROM:+0100
TZOFFSETTO:+0200
TZNAME:CEST
DTSTART:20270328T010000
END:DAYLIGHT
BEGIN:STANDARD
TZOFFSETFROM:+0200
TZOFFSETTO:+0100
TZNAME:CET
DTSTART:20271031T010000
END:STANDARD
END:VTIMEZONE
BEGIN:VEVENT
DTSTART;TZID=Europe/Zurich:20260213T230000
DTEND;TZID=Europe/Zurich:20260214T050000
DTSTAMP:20260420T132816
CREATED:20251219T095248Z
LAST-MODIFIED:20251219T095248Z
UID:12066-1771023600-1771045200@www.display-magazin.ch
SUMMARY:XOXO 2020
DESCRIPTION:XOXO 2020 bietet die heissesten Tracks ab dem Jahr 2020.
URL:https://www.display-magazin.ch/event/xoxo-2020-6/
LOCATION:Heaven Club\, Spitalgasse 5\, Zürich\, 8001
CATEGORIES:Zürich
ATTACH;FMTTYPE=image/png:https://www.display-magazin.ch/wp-content/uploads/2026/03/260213_XOXO-2020_homepage.png
END:VEVENT
BEGIN:VEVENT
DTSTART;TZID=Europe/Zurich:20260213T230000
DTEND;TZID=Europe/Zurich:20260214T050000
DTSTAMP:20260420T132816
CREATED:20260130T070751Z
LAST-MODIFIED:20260130T070751Z
UID:12201-1771023600-1771045200@www.display-magazin.ch
SUMMARY:Kiki im Frost
DESCRIPTION:Väterchen Frost trägt warme Erinnerungen an seine letzte Kiki. Hier nannten ihn alle Daddy. Nun kehrt er zurück\, in die Arme seiner Lovers\, in jenen geschützten Salon\, der keine Zurückhaltung kennt. \nMit Bari_O\, Contenance\, Dani Dorá\, Michelle Vanja\, Mymocea & S.High-Ends sowie Kiki‘s Amusement Squad. \n13.2.2025\, 23 Uhr \nFrieda‘s Büxe \nkiki.events
URL:https://www.display-magazin.ch/event/kiki-im-frost/
LOCATION:Frieda’s Büxe\, Friedaustrasse 23\, Zürich\, 8003\, Schweiz
CATEGORIES:Zürich
ATTACH;FMTTYPE=image/jpeg:https://www.display-magazin.ch/wp-content/uploads/2026/03/image0-1-3.jpeg
END:VEVENT
BEGIN:VEVENT
DTSTART;TZID=Europe/Zurich:20260214T160000
DTEND;TZID=Europe/Zurich:20260214T210000
DTSTAMP:20260420T132816
CREATED:20260127T091348Z
LAST-MODIFIED:20260127T091348Z
UID:12193-1771084800-1771102800@www.display-magazin.ch
SUMMARY:DAY RAVE DELIGHT
DESCRIPTION:Day Rave – weil Feiern kein Dunkel braucht. \nLaut genug\, um den Tag zu vergessen. \nPop als Einstieg\, House zum Übergang und Melodic Techno als Abriss. \nSee you on the floor. \nJetzt Tickets im Vorverkauf sichern – come early\, dance longer. \n  Musik: Pop / Techno / House \n  Màxima / Taylor Cruz \n  Samstag\, 14. Februar 2026\, 16–21 Uhr \n  Location: Parterre One\, Basel \n 
URL:https://www.display-magazin.ch/event/day-rave-delight/
LOCATION:parterre one\, Klybeckstrasse 1b\, Basel\, 4057\, Schweiz
CATEGORIES:Basel
ATTACH;FMTTYPE=image/jpeg:https://www.display-magazin.ch/wp-content/uploads/2026/03/Day_Rave_Delight_A6.jpg
END:VEVENT
BEGIN:VEVENT
DTSTART;TZID=Europe/Zurich:20260214T190000
DTEND;TZID=Europe/Zurich:20260214T220000
DTSTAMP:20260420T132816
CREATED:20260119T155308Z
LAST-MODIFIED:20260119T155308Z
UID:12139-1771095600-1771106400@www.display-magazin.ch
SUMMARY:HYSTERIKON
DESCRIPTION:Unser Leben als Supermarkt. Joghurt für 70 Rappen\, Fair Trade Seifen und ein Herz aus Stein. Die Suche nach einem anderen Leben mit zehn Prozent mehr Inhalt. Kaufen und gekauft werden. Verkaufen und verkauft werden. So ist das\, und das ist nichts Neues. Zahlungsmittel: Geld\, Karte\, Seele. \nIndische Räucherstäbchen? Gleich nach den Menopausen. In den unteren Regalen die sogenannte Bückware. Je tiefer\, desto billiger. Das hält das Rückgrat biegsam. Wieviel haben Sie noch auf dem Konto? Reicht‘s noch für die große Liebe\, oder besser doch nur das blonde Sonderangebot? Wie läuft Ihre Beziehung? Mehr auf Ihre Kosten\, mehr auf seine? Wer zahlt drauf? Der Kassierer zuckt mit den Achseln und kassiert. Greifen Sie zu! Denn für jede verpasste Gelegenheit gibt‘s eine Abbuchung von der LifeCard. Eine absurde Revue aus der Welt der verlorenen Seelen von heute.
URL:https://www.display-magazin.ch/event/hysterikon-2/
LOCATION:Aula Oberstufenzentrum\, Rain 3\, Ittigen\, 3063
CATEGORIES:Bern
ATTACH;FMTTYPE=image/png:https://www.display-magazin.ch/wp-content/uploads/2026/03/Bildschirmfoto-2026-01-19-um-17.47.04.png
END:VEVENT
END:VCALENDAR