BEGIN:VCALENDAR
VERSION:2.0
PRODID:-//DISPLAY Magazin - ECPv6.15.20//NONSGML v1.0//EN
CALSCALE:GREGORIAN
METHOD:PUBLISH
X-ORIGINAL-URL:https://www.display-magazin.ch
X-WR-CALDESC:Veranstaltungen im DISPLAY Magazin
REFRESH-INTERVAL;VALUE=DURATION:PT1H
X-Robots-Tag:noindex
X-PUBLISHED-TTL:PT1H
BEGIN:VTIMEZONE
TZID:Europe/Zurich
BEGIN:DAYLIGHT
TZOFFSETFROM:+0100
TZOFFSETTO:+0200
TZNAME:CEST
DTSTART:20250330T010000
END:DAYLIGHT
BEGIN:STANDARD
TZOFFSETFROM:+0200
TZOFFSETTO:+0100
TZNAME:CET
DTSTART:20251026T010000
END:STANDARD
BEGIN:DAYLIGHT
TZOFFSETFROM:+0100
TZOFFSETTO:+0200
TZNAME:CEST
DTSTART:20260329T010000
END:DAYLIGHT
BEGIN:STANDARD
TZOFFSETFROM:+0200
TZOFFSETTO:+0100
TZNAME:CET
DTSTART:20261025T010000
END:STANDARD
BEGIN:DAYLIGHT
TZOFFSETFROM:+0100
TZOFFSETTO:+0200
TZNAME:CEST
DTSTART:20270328T010000
END:DAYLIGHT
BEGIN:STANDARD
TZOFFSETFROM:+0200
TZOFFSETTO:+0100
TZNAME:CET
DTSTART:20271031T010000
END:STANDARD
END:VTIMEZONE
BEGIN:VEVENT
DTSTART;TZID=Europe/Zurich:20260211T180000
DTEND;TZID=Europe/Zurich:20260211T200000
DTSTAMP:20260420T102529
CREATED:20260120T092201Z
LAST-MODIFIED:20260120T092201Z
UID:12159-1770832800-1770840000@www.display-magazin.ch
SUMMARY:HONEY DON’T!
DESCRIPTION:USA 2025\, 90’\, digital HD\, E/d\nRegie: Ethan Coen \nDrehbuch: Ethan Coen\, Tricia Cooke\nMit:Margaret Qualley\, Aubrey Plaza\, Chris Evans\, Charlie Day\, Billy Eichner\n \nEine smarte lesbische Privatdetektivin untersucht in der kalifornischen Ölstadt Bakersfield den vermeintlichen Unfalltod einer Frau\, die Mitglied einer Sekte war. Deren Oberhaupt ist am Drogenhandel der Stadt beteiligt\, verlangt sexuelle Unterwerfung vom weiblichen Teil seiner Gemeinde und beschäftigt eine Killerin aus Paris\, findet in der Detektivin aber eine ihm ebenbürtige Gegnerin. Der Neo-Noir-Thriller mischt lustvoll Sex und Crime\, stilisierte Gewalt und Wortwechsel und gerät verbal und visuell recht unterhaltsam.\n«Honey Don’t!» ist nach «Drive Away Dolls» der zweite Film der queeren B-Movie-Trilogie von Ethan Coen und seiner Frau Tricia Cooke. Margaret Qualley ist Honey und als Detektivin\, die Untaten aufdeckt hier eine deutlich erwachsene Figur\, und die Geschichte wirkt seriöser\, weil sie sich stilistisch dem engen Korsett des Neo-Noir-Krimis unterwirft. Die Lust daran macht «Honey Don’t!» sehr kurzweilig\, denn die Inszenierung spart nicht an knalligen Dialogen und auch nicht an grossartigen Frauenfiguren.  
URL:https://www.display-magazin.ch/event/honey-dont/
LOCATION:Kino Rex\, Schwanengasse 9\, Bern\, Bern
ATTACH;FMTTYPE=image/jpeg:https://www.display-magazin.ch/wp-content/uploads/2026/03/honey-4-.jpeg
END:VEVENT
BEGIN:VEVENT
DTSTART;TZID=Europe/Zurich:20260211T200000
DTEND;TZID=Europe/Zurich:20260211T220000
DTSTAMP:20260420T102529
CREATED:20260119T155308Z
LAST-MODIFIED:20260119T155308Z
UID:12151-1770840000-1770847200@www.display-magazin.ch
SUMMARY:HYSTERIKON
DESCRIPTION:Unser Leben als Supermarkt. Joghurt für 70 Rappen\, Fair Trade Seifen und ein Herz aus Stein. Die Suche nach einem anderen Leben mit zehn Prozent mehr Inhalt. Kaufen und gekauft werden. Verkaufen und verkauft werden. So ist das\, und das ist nichts Neues. Zahlungsmittel: Geld\, Karte\, Seele. \nIndische Räucherstäbchen? Gleich nach den Menopausen. In den unteren Regalen die sogenannte Bückware. Je tiefer\, desto billiger. Das hält das Rückgrat biegsam. Wieviel haben Sie noch auf dem Konto? Reicht‘s noch für die große Liebe\, oder besser doch nur das blonde Sonderangebot? Wie läuft Ihre Beziehung? Mehr auf Ihre Kosten\, mehr auf seine? Wer zahlt drauf? Der Kassierer zuckt mit den Achseln und kassiert. Greifen Sie zu! Denn für jede verpasste Gelegenheit gibt‘s eine Abbuchung von der LifeCard. Eine absurde Revue aus der Welt der verlorenen Seelen von heute.
URL:https://www.display-magazin.ch/event/hysterikon-8/
LOCATION:Aula Oberstufenzentrum\, Rain 3\, Ittigen\, 3063
CATEGORIES:Bern
ATTACH;FMTTYPE=image/png:https://www.display-magazin.ch/wp-content/uploads/2026/03/Bildschirmfoto-2026-01-19-um-17.47.04.png
END:VEVENT
END:VCALENDAR