BEGIN:VCALENDAR
VERSION:2.0
PRODID:-//DISPLAY Magazin - ECPv6.15.20//NONSGML v1.0//EN
CALSCALE:GREGORIAN
METHOD:PUBLISH
X-ORIGINAL-URL:https://www.display-magazin.ch
X-WR-CALDESC:Veranstaltungen im DISPLAY Magazin
REFRESH-INTERVAL;VALUE=DURATION:PT1H
X-Robots-Tag:noindex
X-PUBLISHED-TTL:PT1H
BEGIN:VTIMEZONE
TZID:Europe/Zurich
BEGIN:DAYLIGHT
TZOFFSETFROM:+0100
TZOFFSETTO:+0200
TZNAME:CEST
DTSTART:20250330T010000
END:DAYLIGHT
BEGIN:STANDARD
TZOFFSETFROM:+0200
TZOFFSETTO:+0100
TZNAME:CET
DTSTART:20251026T010000
END:STANDARD
BEGIN:DAYLIGHT
TZOFFSETFROM:+0100
TZOFFSETTO:+0200
TZNAME:CEST
DTSTART:20260329T010000
END:DAYLIGHT
BEGIN:STANDARD
TZOFFSETFROM:+0200
TZOFFSETTO:+0100
TZNAME:CET
DTSTART:20261025T010000
END:STANDARD
BEGIN:DAYLIGHT
TZOFFSETFROM:+0100
TZOFFSETTO:+0200
TZNAME:CEST
DTSTART:20270328T010000
END:DAYLIGHT
BEGIN:STANDARD
TZOFFSETFROM:+0200
TZOFFSETTO:+0100
TZNAME:CET
DTSTART:20271031T010000
END:STANDARD
END:VTIMEZONE
BEGIN:VEVENT
DTSTART;TZID=Europe/Zurich:20260206T230000
DTEND;TZID=Europe/Zurich:20260207T050000
DTSTAMP:20260420T102553
CREATED:20251219T082543Z
LAST-MODIFIED:20251219T082543Z
UID:12062-1770418800-1770440400@www.display-magazin.ch
SUMMARY:SLAYGROUND
DESCRIPTION:Die queere Clubnacht Slayground bringt frischen Wind – wild\, unberechenbar und hochenergetisch. Hier feiern Vibes\, Looks und Moves\, die viral gehen\, bevor der Algorithmus es überhaupt merkt!
URL:https://www.display-magazin.ch/event/slayground-5/
LOCATION:Heaven Club\, Spitalgasse 5\, Zürich\, 8001
CATEGORIES:Zürich
ATTACH;FMTTYPE=image/png:https://www.display-magazin.ch/wp-content/uploads/2026/03/260206_SLAYGROUND_Homepage.png
END:VEVENT
BEGIN:VEVENT
DTSTART;TZID=Europe/Zurich:20260207T114500
DTEND;TZID=Europe/Zurich:20260208T161500
DTSTAMP:20260420T102553
CREATED:20260120T100447Z
LAST-MODIFIED:20260120T100447Z
UID:12183-1770464700-1770567300@www.display-magazin.ch
SUMMARY:Begegnung queerer Männer
DESCRIPTION:Es ist höchste Zeit: Noch bis Ende Januar kannst Du Dich für das 36. Wochenende BEGEGNUNG QUEERER MÄNNER vom 7 bis 8. Februar 2026 anmelden. Wir erwarten Dich an unserem neuen Durchführungsort: Dem Hotel Balsthal. \nDer Backlash ist da. Deshalb wollen wir uns unter dem Motto «Zeige Präsenz» gegenseitig austauschen und uns stärken. Niemand soll durch kritische Blicke oder laute Stimmen so eingeschüchtert werden\, dass er Angst bekommt und sich versteckt. Was kann man dagegen tun? Aktiv werden und am 36. Wochenende BEGEGNUNG QUEERER MÄNNER teilnehmen! \nUnter den spannenden Workshops wirst Du Altbekanntes mit neuem Inhalt\, Neuheiten und Reprisen finden.  \nAm Samstagabend nach dem Essen erwartet uns ein spannender Dialog mit Prof. Dr. Udo Rauchfleisch. Und beim optionalen Zusatzabend am Freitag wird Kapelle Sorelle frischen Wind in die gute Stube zaubern.  \nUnd wie immer wird es Raum und Zeit geben\, sich zu begegnen. Sei dabei und erlebe BQM at it’s best. \nInfos zu den Workshops und Anmeldung hier
URL:https://www.display-magazin.ch/event/begegnung-queerer-maenner/
LOCATION:Hotel Balsthal\, Falkensteinerstrasse 1\, Balsthal\, 4710
CATEGORIES:Balsthal
ATTACH;FMTTYPE=image/webp:https://www.display-magazin.ch/wp-content/uploads/2026/03/bqm_logo_header_rgb-1.png.webp
END:VEVENT
BEGIN:VEVENT
DTSTART;TZID=Europe/Zurich:20260207T190000
DTEND;TZID=Europe/Zurich:20260207T220000
DTSTAMP:20260420T102553
CREATED:20260119T155308Z
LAST-MODIFIED:20260119T155308Z
UID:12143-1770490800-1770501600@www.display-magazin.ch
SUMMARY:HYSTERIKON
DESCRIPTION:Unser Leben als Supermarkt. Joghurt für 70 Rappen\, Fair Trade Seifen und ein Herz aus Stein. Die Suche nach einem anderen Leben mit zehn Prozent mehr Inhalt. Kaufen und gekauft werden. Verkaufen und verkauft werden. So ist das\, und das ist nichts Neues. Zahlungsmittel: Geld\, Karte\, Seele. \nIndische Räucherstäbchen? Gleich nach den Menopausen. In den unteren Regalen die sogenannte Bückware. Je tiefer\, desto billiger. Das hält das Rückgrat biegsam. Wieviel haben Sie noch auf dem Konto? Reicht‘s noch für die große Liebe\, oder besser doch nur das blonde Sonderangebot? Wie läuft Ihre Beziehung? Mehr auf Ihre Kosten\, mehr auf seine? Wer zahlt drauf? Der Kassierer zuckt mit den Achseln und kassiert. Greifen Sie zu! Denn für jede verpasste Gelegenheit gibt‘s eine Abbuchung von der LifeCard. Eine absurde Revue aus der Welt der verlorenen Seelen von heute.
URL:https://www.display-magazin.ch/event/hysterikon-4/
LOCATION:Aula Oberstufenzentrum\, Rain 3\, Ittigen\, 3063
CATEGORIES:Bern
ATTACH;FMTTYPE=image/png:https://www.display-magazin.ch/wp-content/uploads/2026/03/Bildschirmfoto-2026-01-19-um-17.47.04.png
END:VEVENT
BEGIN:VEVENT
DTSTART;TZID=Europe/Zurich:20260207T220000
DTEND;TZID=Europe/Zurich:20260208T050000
DTSTAMP:20260420T102553
CREATED:20251219T082832Z
LAST-MODIFIED:20251219T082832Z
UID:12064-1770501600-1770526800@www.display-magazin.ch
SUMMARY:QUEER DURCHS DÖRFLI – BAR-TOUR MIT AMÉLIE PUTAIN
DESCRIPTION:Ein queerer Pub Crawl durch Geschichte und Gegenwart: Gemeinsam geht es zu historischen Orten und drei der bekanntesten queeren Bars im Bermudadreieck im Dörfli. Gestartet und geendet wird im Heaven. \n \nDrag Artist Amélie Putain führt mit Charme\, lustigen Anekdoten und Drinks durch den Abend. Perfekt für alle\, die queere Kultur entdecken\, neue Leute kennenlernen und zum Abschluss im Heaven weiterfeiern möchten.
URL:https://www.display-magazin.ch/event/queer-durchs-doerfli-bar-tour-mit-amelie-putain/
LOCATION:Heaven Club\, Spitalgasse 5\, Zürich\, 8001
CATEGORIES:Zürich
ATTACH;FMTTYPE=image/png:https://www.display-magazin.ch/wp-content/uploads/2026/03/260207_Night-Pride-Homepage.png
END:VEVENT
BEGIN:VEVENT
DTSTART;TZID=Europe/Zurich:20260207T230000
DTEND;TZID=Europe/Zurich:20260208T050000
DTSTAMP:20260420T102553
CREATED:20260205T161005Z
LAST-MODIFIED:20260205T161005Z
UID:12205-1770505200-1770526800@www.display-magazin.ch
SUMMARY:QUEER & FRIENDS
DESCRIPTION:Wir öffnen wieder die Türen für viel Farbe\, Glitzer\, Liebe\, Vielfalt und Toleranz. Getreu unserem Motto\, laden wir wieder ein zu einer bunten Nacht\, in der alle Menschen willkommen sind – Komm vorbei und sei wie du bist\, denn genau so bist du wunderbar! Lass dich mitreissen von den pulsierenden elektronischen Beats und werde Teil dieser unvergesslichen Nacht mit der Queer-and-Friends-Family.\n \nLine Up\nRoma Dj Collective \nAngelica Fravi \nPedro Flores (Queer and Friends)\n \nDoor by Chris Brönimann\n \nQUEER & FRIENDS – Club Bellevue\n \nInfos und Tickets:\nhttps://share.google/Gcvv3DIRRfPkhxbWt\n 
URL:https://www.display-magazin.ch/event/queer-friends-3/
LOCATION:Club Bellevue\, Rämistrasse 6\, Eingang Freieckgasse\, 8001 Zürich
CATEGORIES:Zürich
ATTACH;FMTTYPE=image/jpeg:https://www.display-magazin.ch/wp-content/uploads/2026/03/IMG-20260117-WA0060-Kopie.jpg
END:VEVENT
END:VCALENDAR