BEGIN:VCALENDAR
VERSION:2.0
PRODID:-//DISPLAY Magazin - ECPv6.15.20//NONSGML v1.0//EN
CALSCALE:GREGORIAN
METHOD:PUBLISH
X-ORIGINAL-URL:https://www.display-magazin.ch
X-WR-CALDESC:Veranstaltungen im DISPLAY Magazin
REFRESH-INTERVAL;VALUE=DURATION:PT1H
X-Robots-Tag:noindex
X-PUBLISHED-TTL:PT1H
BEGIN:VTIMEZONE
TZID:Europe/Zurich
BEGIN:DAYLIGHT
TZOFFSETFROM:+0100
TZOFFSETTO:+0200
TZNAME:CEST
DTSTART:20250330T010000
END:DAYLIGHT
BEGIN:STANDARD
TZOFFSETFROM:+0200
TZOFFSETTO:+0100
TZNAME:CET
DTSTART:20251026T010000
END:STANDARD
BEGIN:DAYLIGHT
TZOFFSETFROM:+0100
TZOFFSETTO:+0200
TZNAME:CEST
DTSTART:20260329T010000
END:DAYLIGHT
BEGIN:STANDARD
TZOFFSETFROM:+0200
TZOFFSETTO:+0100
TZNAME:CET
DTSTART:20261025T010000
END:STANDARD
BEGIN:DAYLIGHT
TZOFFSETFROM:+0100
TZOFFSETTO:+0200
TZNAME:CEST
DTSTART:20270328T010000
END:DAYLIGHT
BEGIN:STANDARD
TZOFFSETFROM:+0200
TZOFFSETTO:+0100
TZNAME:CET
DTSTART:20271031T010000
END:STANDARD
END:VTIMEZONE
BEGIN:VEVENT
DTSTART;TZID=Europe/Zurich:20260126T183000
DTEND;TZID=Europe/Zurich:20260126T200000
DTSTAMP:20260420T102541
CREATED:20260121T082523Z
LAST-MODIFIED:20260121T082523Z
UID:12185-1769452200-1769457600@www.display-magazin.ch
SUMMARY:LESBIAN SPACE PRINCESS
DESCRIPTION:Die introvertierte Prinzessin Saira\, Tochter der lesbischen Königinnen des Planeten Clitopolis\, ist am Boden zerstört: Ihre Freundin\, die Kopfgeldjägerin Kiki\, hat mit ihr Schluss gemacht! Saira sei einfach zu langweilig\, sagt sie. Dabei hat sie ihr ein so schönes Beziehungsalbum gebastelt! Doch als Kiki von den Straight White Maliens\, den Incels der Zukunft\, entführt wird\, muss Saira den Safe Space des queeren Weltraums verlassen und binnen 24 Stunden das Lösegeld überbringen: die königliche Labrys – eine goldene Doppelaxt von schier unglaublicher lesbischer Macht. Das einzige Problem… Saira hat sie nicht! \nUmwerfend witzig\, knallbunt und euphorisch\, kompromisslos queer: Der erste Spielfilm des australischen Regie-Duos Leela Varghese und Emma Hough Hobbs ist ein mitreißender intergalaktischer Selbstfindungstrip mit Lust auf Krawall und ganz großem Herzen\, irgendwo zwischen wilder Sci-fi-Musical-Komödie und heilsamer Coming-of-Age-Abenteuerreise. Dafür gab es auf der Berlinale 2025 den Teddy-Award und den 2. Platz beim Panorama-Publikumspreis. Ein riesiger Spass\, finden wir.
URL:https://www.display-magazin.ch/event/lesbian-space-princess/
LOCATION:RIFFRAFF\, Neugasse 57-63\, 8005 Zürich\, 8005\, Schweiz
ATTACH;FMTTYPE=image/jpeg:https://www.display-magazin.ch/wp-content/uploads/2026/03/LesbianSpacePrincess_PicWeb_RGB_3000x2000px_150dpi-scaled-1.jpg
END:VEVENT
END:VCALENDAR