BEGIN:VCALENDAR
VERSION:2.0
PRODID:-//DISPLAY Magazin - ECPv6.15.20//NONSGML v1.0//EN
CALSCALE:GREGORIAN
METHOD:PUBLISH
X-WR-CALNAME:DISPLAY Magazin
X-ORIGINAL-URL:https://www.display-magazin.ch
X-WR-CALDESC:Veranstaltungen im DISPLAY Magazin
REFRESH-INTERVAL;VALUE=DURATION:PT1H
X-Robots-Tag:noindex
X-PUBLISHED-TTL:PT1H
BEGIN:VTIMEZONE
TZID:Europe/Zurich
BEGIN:DAYLIGHT
TZOFFSETFROM:+0100
TZOFFSETTO:+0200
TZNAME:CEST
DTSTART:20250330T010000
END:DAYLIGHT
BEGIN:STANDARD
TZOFFSETFROM:+0200
TZOFFSETTO:+0100
TZNAME:CET
DTSTART:20251026T010000
END:STANDARD
BEGIN:DAYLIGHT
TZOFFSETFROM:+0100
TZOFFSETTO:+0200
TZNAME:CEST
DTSTART:20260329T010000
END:DAYLIGHT
BEGIN:STANDARD
TZOFFSETFROM:+0200
TZOFFSETTO:+0100
TZNAME:CET
DTSTART:20261025T010000
END:STANDARD
BEGIN:DAYLIGHT
TZOFFSETFROM:+0100
TZOFFSETTO:+0200
TZNAME:CEST
DTSTART:20270328T010000
END:DAYLIGHT
BEGIN:STANDARD
TZOFFSETFROM:+0200
TZOFFSETTO:+0100
TZNAME:CET
DTSTART:20271031T010000
END:STANDARD
END:VTIMEZONE
BEGIN:VEVENT
DTSTART;TZID=Europe/Zurich:20260116T230000
DTEND;TZID=Europe/Zurich:20260117T050000
DTSTAMP:20260424T114947
CREATED:20251219T075612Z
LAST-MODIFIED:20251219T075612Z
UID:12048-1768604400-1768626000@www.display-magazin.ch
SUMMARY:DEAD DANCE
DESCRIPTION:Das Wochenende steht an – und das Heaven macht die Nacht zum Tag! Keine Gaga-Party\, sondern ein queeres Freitags-Highlight mit dem feinsten PopHouse von DJ NOX. Tanzt euch den Wochenstress von der Seele und startet ins Wochenende.
URL:https://www.display-magazin.ch/event/dead-dance/
LOCATION:Heaven Club\, Spitalgasse 5\, Zürich\, 8001
ATTACH;FMTTYPE=image/png:https://www.display-magazin.ch/wp-content/uploads/2026/03/260116_Dead-Dance_INSTA.png
END:VEVENT
BEGIN:VEVENT
DTSTART;TZID=Europe/Zurich:20260117T160000
DTEND;TZID=Europe/Zurich:20260117T210000
DTSTAMP:20260424T114947
CREATED:20260109T090611Z
LAST-MODIFIED:20260109T090611Z
UID:12109-1768665600-1768683600@www.display-magazin.ch
SUMMARY:Songs from the End of the Rainbow
DESCRIPTION:DJ der fünfte Tag ist ein Kind der 80er\, als die Welt in Neonfarben getaucht und bunt war. Er spielt Songs von damals bis heute\, von Rock bis elektronisch\, von melancholisch bis euphorisch. Im Bierhübeli am QUEER TEA DANCE lädt er dazu ein\, zusammen das Ende des musikalischen Regenbogens zu suchen. \n\n16H: TEA TIME im GUSTAV – zum Aufwärmen und Verköstigen. \n18H: TEA DANCE im BIERHÜBELI-SAAL – DJ DER FÜNFTE TAG spielt «Songs from the End of the Rainbow» von gestern bis heute. \nJanuarloch-Preis für alle 10.- (Vorverkauf und Abendkasse) \nInfos und Tickets gibt’s hier
URL:https://www.display-magazin.ch/event/songs-from-the-end-of-the-rainbow/
LOCATION:Bierhübeli\, Neubrückstrasse 43\, Bern\, 3012\, Schweiz
ATTACH;FMTTYPE=image/jpeg:https://www.display-magazin.ch/wp-content/uploads/2026/03/image0-5.jpeg
END:VEVENT
BEGIN:VEVENT
DTSTART;TZID=Europe/Zurich:20260117T230000
DTEND;TZID=Europe/Zurich:20260118T050000
DTSTAMP:20260424T114947
CREATED:20251219T080519Z
LAST-MODIFIED:20251219T080519Z
UID:12050-1768690800-1768712400@www.display-magazin.ch
SUMMARY:2000ER PARTY
DESCRIPTION:Eine nostalgische Zeitreise in die Nullerjahre mit Britney Spears\, Bomfunk MC’s\, S Club 7 und Safri Duo.
URL:https://www.display-magazin.ch/event/2000er-party-7/
LOCATION:Heaven Club\, Spitalgasse 5\, Zürich\, 8001
ATTACH;FMTTYPE=image/png:https://www.display-magazin.ch/wp-content/uploads/2026/03/260117_2000er_homepage.png
END:VEVENT
BEGIN:VEVENT
DTSTART;TZID=Europe/Zurich:20260117T230000
DTEND;TZID=Europe/Zurich:20260118T180000
DTSTAMP:20260424T114947
CREATED:20260107T131710Z
LAST-MODIFIED:20260107T131710Z
UID:12103-1768690800-1768759200@www.display-magazin.ch
SUMMARY:#hrdr
DESCRIPTION:#HRDR – die legendäre kinky Party in Basel & Zürich\, Schweiz. Die DJs spielen reinen Techno. Kinky Playrooms stehen für alles zur Verfügung\, worauf du Lust hast – solange es im gegenseitigen Einverständnis geschieht. #hrdr heißt alle Geschlechter und alle sexuellen Orientierungen willkommen. Es gibt keinen Dresscode\, allerdings fühlst du dich in Leder\, Gummi oder sportlichem Outfit – oder nackt – wahrscheinlich wohler. \n#HRDR34 Komplex Klub\, Zürich \n#TECHNO #CRUISING #PLAYROOMS #DARKROOMS \nMAINFLOOR\nJesse Jay\nBobbytek\nDJT2K \nHier geht’s zur Website \n 
URL:https://www.display-magazin.ch/event/hrdr-6/
LOCATION:Komplex 457\, Zürich\, Schweiz
ATTACH;FMTTYPE=image/webp:https://www.display-magazin.ch/wp-content/uploads/2026/03/eventfrog-PIC9PQZQ.webp
END:VEVENT
END:VCALENDAR